BEGIN:VCALENDAR
VERSION:2.0
PRODID:-//FiM 2026 - ECPv6.15.20//NONSGML v1.0//EN
CALSCALE:GREGORIAN
METHOD:PUBLISH
X-WR-CALNAME:FiM 2026
X-ORIGINAL-URL:https://fim.church
X-WR-CALDESC:Events for FiM 2026
REFRESH-INTERVAL;VALUE=DURATION:PT1H
X-Robots-Tag:noindex
X-PUBLISHED-TTL:PT1H
BEGIN:VTIMEZONE
TZID:Australia/Sydney
BEGIN:STANDARD
TZOFFSETFROM:+1100
TZOFFSETTO:+1000
TZNAME:AEST
DTSTART:20250405T160000
END:STANDARD
BEGIN:DAYLIGHT
TZOFFSETFROM:+1000
TZOFFSETTO:+1100
TZNAME:AEDT
DTSTART:20251004T160000
END:DAYLIGHT
BEGIN:STANDARD
TZOFFSETFROM:+1100
TZOFFSETTO:+1000
TZNAME:AEST
DTSTART:20260404T160000
END:STANDARD
BEGIN:DAYLIGHT
TZOFFSETFROM:+1000
TZOFFSETTO:+1100
TZNAME:AEDT
DTSTART:20261003T160000
END:DAYLIGHT
BEGIN:STANDARD
TZOFFSETFROM:+1100
TZOFFSETTO:+1000
TZNAME:AEST
DTSTART:20270403T160000
END:STANDARD
BEGIN:DAYLIGHT
TZOFFSETFROM:+1000
TZOFFSETTO:+1100
TZNAME:AEDT
DTSTART:20271002T160000
END:DAYLIGHT
END:VTIMEZONE
BEGIN:VEVENT
DTSTART;TZID=Australia/Sydney:20260615T090000
DTEND;TZID=Australia/Sydney:20260615T153000
DTSTAMP:20260420T105951
CREATED:20251105T232138Z
LAST-MODIFIED:20260309T094600Z
UID:10000011-1781514000-1781537400@fim.church
SUMMARY:Hoxton Park - 15 June 2026
DESCRIPTION:Faithfulness in Ministry 2026 conference – Hoxton Park Anglican \n\n\n\n\n\nEach registered attendee will receive an email with their individual ticket\, with QR Code for scanning on arrival at the venue. Please check your junk folder if you do not receive the email.
URL:https://fim.church/event/hoxton-park-15-june-2026/
LOCATION:Hoxton Park Anglican Church\, 1 Latrobe Rd\, West Hoxton\, NSW\, 2171\, Australia
ATTACH;FMTTYPE=image/jpeg:https://fim.church/wp-content/uploads/2023/01/Hoxton_Park_Anglican_Church-19015-6831.jpg
GEO:-33.9308715;150.8457277
X-APPLE-STRUCTURED-LOCATION;VALUE=URI;X-ADDRESS=Hoxton Park Anglican Church 1 Latrobe Rd West Hoxton NSW 2171 Australia;X-APPLE-RADIUS=500;X-TITLE=1 Latrobe Rd:geo:150.8457277,-33.9308715
END:VEVENT
BEGIN:VEVENT
DTSTART;TZID=Australia/Sydney:20260616T090000
DTEND;TZID=Australia/Sydney:20260616T153000
DTSTAMP:20260420T105951
CREATED:20251105T232401Z
LAST-MODIFIED:20260309T094602Z
UID:10000012-1781600400-1781623800@fim.church
SUMMARY:St Paul’s Carlingford - 16 June 2026
DESCRIPTION:Faithfulness in Ministry 2026 conference – Carlingford Anglican \n\n\n\n\n\nEach registered attendee will receive an email with their individual ticket\, with QR Code for scanning on arrival at the venue. Please check your junk folder if you do not receive the email.
URL:https://fim.church/event/st-pauls-carlingford-16-june-2026/
LOCATION:Carlingford Anglican Church\, Cnr Mosley St & Vickery Ave\, Carlingford\, NSW\, 2118\, Australia
ATTACH;FMTTYPE=image/jpeg:https://fim.church/wp-content/uploads/2023/01/spac-carlingford-1032x562-02.jpg
GEO:-33.7763449;151.0488122
X-APPLE-STRUCTURED-LOCATION;VALUE=URI;X-ADDRESS=Carlingford Anglican Church Cnr Mosley St & Vickery Ave Carlingford NSW 2118 Australia;X-APPLE-RADIUS=500;X-TITLE=Cnr Mosley St & Vickery Ave:geo:151.0488122,-33.7763449
END:VEVENT
BEGIN:VEVENT
DTSTART;TZID=Australia/Sydney:20260617T090000
DTEND;TZID=Australia/Sydney:20260617T153000
DTSTAMP:20260420T105951
CREATED:20251105T232528Z
LAST-MODIFIED:20260309T094605Z
UID:10000013-1781686800-1781710200@fim.church
SUMMARY:Figtree Anglican Church - 17 June 2026
DESCRIPTION:Faithfulness in Ministry 2026 conference – Figtree Anglican \n\n\n\n\n\nEach registered attendee will receive an email with their individual ticket\, with QR Code for scanning on arrival at the venue. Please check your junk folder if you do not receive the email.
URL:https://fim.church/event/figtree-anglican-church-17-june-2026/
LOCATION:Figtree Anglican Church\, 4-10 Gibsons Rd\, Figtree\, NSW\, 2525\, Australia
ATTACH;FMTTYPE=image/jpeg:https://fim.church/wp-content/uploads/2023/01/church-picture-277-3.jpg
GEO:-34.438878;150.8528863
X-APPLE-STRUCTURED-LOCATION;VALUE=URI;X-ADDRESS=Figtree Anglican Church 4-10 Gibsons Rd Figtree NSW 2525 Australia;X-APPLE-RADIUS=500;X-TITLE=4-10 Gibsons Rd:geo:150.8528863,-34.438878
END:VEVENT
END:VCALENDAR